BEGIN:VCALENDAR
VERSION:2.0
PRODID:icalendar-ruby
CALSCALE:GREGORIAN
BEGIN:VEVENT
DTSTAMP:20210119T145739Z
UID:610e6b43-1de6-4c2a-8de8-7dc465c31c4c
DTSTART;VALUE=DATE:20190926
DESCRIPTION:Property ID# 460775\, Locatoin: 247 Cameron Road\, Tauranga\, T
 ime: 1:00PM
SUMMARY:Auction for 
END:VEVENT
END:VCALENDAR
