BEGIN:VCALENDAR
VERSION:2.0
PRODID:icalendar-ruby
CALSCALE:GREGORIAN
BEGIN:VEVENT
DTSTAMP:20210121T015700Z
UID:3ea946f3-7814-450c-afa0-637f4a635b49
DTSTART;VALUE=DATE:20191015
DESCRIPTION:Property ID# 461012\, Locatoin: 16a Foster Road\, Okere Falls\,
  Rotorua\, Time: 1:00PM
SUMMARY:Auction for 
END:VEVENT
END:VCALENDAR
