BEGIN:VCALENDAR
VERSION:2.0
PRODID:icalendar-ruby
CALSCALE:GREGORIAN
BEGIN:VEVENT
DTSTAMP:20210119T145737Z
UID:fa6c6cc5-e705-46ec-9995-565cef84e91f
DTSTART;VALUE=DATE:20191003
DESCRIPTION:Property ID# 461433\, Locatoin: 247 Cameron Road\, Tauranga\, T
 ime: 1:00PM
SUMMARY:Auction for 
END:VEVENT
END:VCALENDAR
