BEGIN:VCALENDAR
VERSION:2.0
PRODID:icalendar-ruby
CALSCALE:GREGORIAN
BEGIN:VEVENT
DTSTAMP:20210121T015955Z
UID:c05dd54a-fbfc-4a4a-bb7c-c5cfd9f69fe7
DTSTART;VALUE=DATE:20191030
DESCRIPTION:Property ID# 461702\, Locatoin: 247 Cameron Road\, Tauranga (un
 less sold prior)\, Time: 1:00PM
SUMMARY:Auction for 
END:VEVENT
END:VCALENDAR
