BEGIN:VCALENDAR
VERSION:2.0
PRODID:icalendar-ruby
CALSCALE:GREGORIAN
BEGIN:VEVENT
DTSTAMP:20210121T015247Z
UID:847f9983-eb41-4948-acb4-13d4fd1acf4a
DTSTART;VALUE=DATE:20191010
DESCRIPTION:Property ID# 462213\, Locatoin: Harcourts Auction Room\, 1 Thir
 d Ave\, Tauranga\, Time: 1:30PM
SUMMARY:Auction for 
END:VEVENT
END:VCALENDAR
