BEGIN:VCALENDAR
VERSION:2.0
PRODID:icalendar-ruby
CALSCALE:GREGORIAN
BEGIN:VEVENT
DTSTAMP:20210119T145714Z
UID:30c17fac-49fb-47a0-99e1-e3a15735f378
DTSTART;VALUE=DATE:20191114
DESCRIPTION:Property ID# 462426\, Locatoin: 12-14 Peace Street\, Whakatane\
 , Time: 4:00PM
SUMMARY:Auction for 
END:VEVENT
END:VCALENDAR
