BEGIN:VCALENDAR
VERSION:2.0
PRODID:icalendar-ruby
CALSCALE:GREGORIAN
BEGIN:VEVENT
DTSTAMP:20210119T145709Z
UID:5f1b2429-deb3-4e1b-8072-bc53419102db
DTSTART;VALUE=DATE:20191114
DESCRIPTION:Property ID# 462427\, Locatoin: PGG\, Time: 4:00PM
SUMMARY:Auction for 1956 State Highway 2
END:VEVENT
END:VCALENDAR
