BEGIN:VCALENDAR
VERSION:2.0
PRODID:icalendar-ruby
CALSCALE:GREGORIAN
BEGIN:VEVENT
DTSTAMP:20210121T015516Z
UID:2c90d3f4-27d8-483d-a80f-1a4fe8a04d95
DTSTART;VALUE=DATE:20191106
DESCRIPTION:Property ID# 463001\, Time: 4:00PM
SUMMARY:Auction for 
END:VEVENT
END:VCALENDAR
