BEGIN:VCALENDAR
VERSION:2.0
PRODID:icalendar-ruby
CALSCALE:GREGORIAN
BEGIN:VEVENT
DTSTAMP:20210119T145730Z
UID:9661ec02-d2ad-488d-b9f3-3590d41a6246
DTSTART;VALUE=DATE:20191102
DESCRIPTION:Property ID# 463106\, Locatoin: Onsite\, Time: 1:00PM
SUMMARY:Auction for 
END:VEVENT
END:VCALENDAR
