BEGIN:VCALENDAR
VERSION:2.0
PRODID:icalendar-ruby
CALSCALE:GREGORIAN
BEGIN:VEVENT
DTSTAMP:20210119T145657Z
UID:d34af505-0122-4693-8e3f-5a7bfad2edc0
DTSTART;VALUE=DATE:20191121
DESCRIPTION:Property ID# 464572\, Locatoin: PGG Wrightson Building\, C/O Ma
 rgurita and White Streets\, Time: 1:00PM
SUMMARY:Auction for 
END:VEVENT
END:VCALENDAR
