BEGIN:VCALENDAR
VERSION:2.0
PRODID:icalendar-ruby
CALSCALE:GREGORIAN
BEGIN:VEVENT
DTSTAMP:20210121T015658Z
UID:48e87cad-08dd-48ed-a28b-dfee15da26f3
DTSTART;VALUE=DATE:20191127
DESCRIPTION:Property ID# 465765\, Locatoin: On site\, Time: 1:00PM
SUMMARY:Auction for 
END:VEVENT
END:VCALENDAR
