BEGIN:VCALENDAR
VERSION:2.0
PRODID:icalendar-ruby
CALSCALE:GREGORIAN
BEGIN:VEVENT
DTSTAMP:20210121T015205Z
UID:2c97a82d-876a-4767-b0be-35b4e8f740b8
DTSTART;VALUE=DATE:20191123
DESCRIPTION:Property ID# 465994\, Time: 2:00PM
SUMMARY:Auction for 
END:VEVENT
END:VCALENDAR
