BEGIN:VCALENDAR
VERSION:2.0
PRODID:icalendar-ruby
CALSCALE:GREGORIAN
BEGIN:VEVENT
DTSTAMP:20210119T145726Z
UID:9c37cbea-1d6c-4b87-a380-ed2765dc0d66
DTSTART;VALUE=DATE:20191215
DESCRIPTION:Property ID# 466365\, Locatoin: Onsite\, 15 Rangitukehu Street\
 , Ohope\, Time: 1:30PM
SUMMARY:Auction for 
END:VEVENT
END:VCALENDAR
