BEGIN:VCALENDAR
VERSION:2.0
PRODID:icalendar-ruby
CALSCALE:GREGORIAN
BEGIN:VEVENT
DTSTAMP:20210121T015514Z
UID:72e50811-6f17-4c09-a229-24d68bcd30fd
DTSTART;VALUE=DATE:20191203
DESCRIPTION:Property ID# 466403\, Locatoin: On Site\, Time: 6:00PM
SUMMARY:Auction for 
END:VEVENT
END:VCALENDAR
