BEGIN:VCALENDAR
VERSION:2.0
PRODID:icalendar-ruby
CALSCALE:GREGORIAN
BEGIN:VEVENT
DTSTAMP:20210121T015221Z
UID:9ee69c71-761b-405d-9e6f-28ab6ce1eef1
DTSTART;VALUE=DATE:20200118
DESCRIPTION:Property ID# 468656\, Locatoin: Ray White offices\, Time: 10:30
 AM
SUMMARY:Auction for 
END:VEVENT
END:VCALENDAR
