BEGIN:VCALENDAR
VERSION:2.0
PRODID:icalendar-ruby
CALSCALE:GREGORIAN
BEGIN:VEVENT
DTSTAMP:20210121T015243Z
UID:5d3f52e3-cf73-46e8-ae80-a5ad540426cd
DTSTART;VALUE=DATE:20200326
DESCRIPTION:Property ID# 474294\, Locatoin: Harcourts Auction Room\, 1 Thir
 d Ave\, Tauranga (unless sold prior)\, Time: 1:00PM
SUMMARY:Auction for 
END:VEVENT
END:VCALENDAR
