BEGIN:VCALENDAR
VERSION:2.0
PRODID:icalendar-ruby
CALSCALE:GREGORIAN
BEGIN:VEVENT
DTSTAMP:20210121T015236Z
UID:09bb79f7-f3b6-45a2-8776-46ad781669f5
DTSTART;VALUE=DATE:20200404
DESCRIPTION:Property ID# 474819\, Locatoin: Onsite\, Time: 1:00PM
SUMMARY:Auction for 
END:VEVENT
END:VCALENDAR
