BEGIN:VCALENDAR
VERSION:2.0
PRODID:icalendar-ruby
CALSCALE:GREGORIAN
BEGIN:VEVENT
DTSTAMP:20210121T015234Z
UID:48c1bd57-d3f0-4626-bb64-a25e0ec1de60
DTSTART;VALUE=DATE:20200417
DESCRIPTION:Property ID# 475260\, Time: 4:00PM
SUMMARY:Auction for 
END:VEVENT
END:VCALENDAR
