BEGIN:VCALENDAR
VERSION:2.0
PRODID:icalendar-ruby
CALSCALE:GREGORIAN
BEGIN:VEVENT
DTSTAMP:20210121T015532Z
UID:b80ca53e-e3ac-4c7e-bd50-e909aa170d1a
DTSTART;VALUE=DATE:20200605
DESCRIPTION:Property ID# 476591\, Locatoin: 247 Cameron Road\, Tauranga\, T
 ime: 11:00AM
SUMMARY:Auction for 
END:VEVENT
END:VCALENDAR
