BEGIN:VCALENDAR
VERSION:2.0
PRODID:icalendar-ruby
CALSCALE:GREGORIAN
BEGIN:VEVENT
DTSTAMP:20210119T145802Z
UID:583f4aa9-fdb2-43a2-8b46-41a603b368e5
DTSTART;VALUE=DATE:20200613
DESCRIPTION:Property ID# 481235\, Time: 12:00PM
SUMMARY:Auction for 
END:VEVENT
END:VCALENDAR
