BEGIN:VCALENDAR
VERSION:2.0
PRODID:icalendar-ruby
CALSCALE:GREGORIAN
BEGIN:VEVENT
DTSTAMP:20210119T145745Z
UID:e8df465b-ad49-4bdb-b1c4-40f8162a0b47
DTSTART;VALUE=DATE:20200623
DESCRIPTION:Property ID# 481650\, Locatoin: Harcourts Auction Room\, 1 Thir
 d Ave (Unless Sold Prior)\, Time: 12:30PM
SUMMARY:Auction for 
END:VEVENT
END:VCALENDAR
