BEGIN:VCALENDAR
VERSION:2.0
PRODID:icalendar-ruby
CALSCALE:GREGORIAN
BEGIN:VEVENT
DTSTAMP:20210119T145815Z
UID:0208149f-1ec6-46f2-b9c1-c7b97ead7461
DTSTART;VALUE=DATE:20200701
DESCRIPTION:Property ID# 482370\, Locatoin: 247 Cameron Road\, Tauranga\, T
 ime: 1:00PM
SUMMARY:Auction for 
END:VEVENT
END:VCALENDAR
