BEGIN:VCALENDAR
VERSION:2.0
PRODID:icalendar-ruby
CALSCALE:GREGORIAN
BEGIN:VEVENT
DTSTAMP:20210121T015530Z
UID:1475f955-61ae-4cd0-a6dd-b8f66bd19a39
DTSTART;VALUE=DATE:20200708
DESCRIPTION:Property ID# 482591\, Locatoin: 247 Cameron Road\, Tauranga\, T
 ime: 1:00PM
SUMMARY:Auction for 
END:VEVENT
END:VCALENDAR
