BEGIN:VCALENDAR
VERSION:2.0
PRODID:icalendar-ruby
CALSCALE:GREGORIAN
BEGIN:VEVENT
DTSTAMP:20210119T145736Z
UID:925f44e3-8950-4c9c-83c5-b72eeaec4b94
DTSTART;VALUE=DATE:20200723
DESCRIPTION:Property ID# 483068\, Locatoin: 247 Cameron Road\, Tauranga\, T
 ime: 12:00PM
SUMMARY:Auction for 
END:VEVENT
END:VCALENDAR
