BEGIN:VCALENDAR
VERSION:2.0
PRODID:icalendar-ruby
CALSCALE:GREGORIAN
BEGIN:VEVENT
DTSTAMP:20210121T015953Z
UID:b3261987-1284-4d47-84fb-15c3959af3f0
DTSTART;VALUE=DATE:20200729
DESCRIPTION:Property ID# 483919\, Locatoin: 247 Cameron Road\, Tauranga (un
 less sold prior)\, Time: 1:00PM
SUMMARY:Auction for 
END:VEVENT
END:VCALENDAR
