BEGIN:VCALENDAR
VERSION:2.0
PRODID:icalendar-ruby
CALSCALE:GREGORIAN
BEGIN:VEVENT
DTSTAMP:20210121T015242Z
UID:740f0850-c0a6-4ef1-8d86-1df8aca8bc5e
DTSTART;VALUE=DATE:20200730
DESCRIPTION:Property ID# 484866\, Locatoin: Harcourts Auction Room\, 1 Thir
 d Ave\, Tauranga (unless sold prior)\, Time: 1:00PM
SUMMARY:Auction for 
END:VEVENT
END:VCALENDAR
