BEGIN:VCALENDAR
VERSION:2.0
PRODID:icalendar-ruby
CALSCALE:GREGORIAN
BEGIN:VEVENT
DTSTAMP:20210119T145638Z
UID:2cc32a13-522a-4886-ab44-92a6ec48963c
DTSTART;VALUE=DATE:20200805
DESCRIPTION:Property ID# 484882\, Locatoin: 247 Cameron Road\, Tauranga\, T
 ime: 1:00PM
SUMMARY:Auction for 
END:VEVENT
END:VCALENDAR
