BEGIN:VCALENDAR
VERSION:2.0
PRODID:icalendar-ruby
CALSCALE:GREGORIAN
BEGIN:VEVENT
DTSTAMP:20210121T015219Z
UID:8f56f8a1-5770-447e-8638-e501b67caca6
DTSTART;VALUE=DATE:20200912
DESCRIPTION:Property ID# 485675\, Locatoin: On Site\, Time: 3:00PM
SUMMARY:Auction for 
END:VEVENT
END:VCALENDAR
