BEGIN:VCALENDAR
VERSION:2.0
PRODID:icalendar-ruby
CALSCALE:GREGORIAN
BEGIN:VEVENT
DTSTAMP:20210121T015218Z
UID:f74f104a-784c-41e9-a720-0454fc56fdf2
DTSTART;VALUE=DATE:20200807
DESCRIPTION:Property ID# 485769\, Locatoin: 19 Pohutukawa Ave Ohoe\, Time: 
 4:00PM
SUMMARY:Auction for 
END:VEVENT
END:VCALENDAR
