BEGIN:VCALENDAR
VERSION:2.0
PRODID:icalendar-ruby
CALSCALE:GREGORIAN
BEGIN:VEVENT
DTSTAMP:20210121T015951Z
UID:7ca84a15-0bbb-4fe3-a4ce-6ec60b3d4e93
DTSTART;VALUE=DATE:20200826
DESCRIPTION:Property ID# 486196\, Locatoin: 247 Cameron Road\, Tauranga (un
 less sold prior)\, Time: 12:00PM
SUMMARY:Auction for 
END:VEVENT
END:VCALENDAR
