BEGIN:VCALENDAR
VERSION:2.0
PRODID:icalendar-ruby
CALSCALE:GREGORIAN
BEGIN:VEVENT
DTSTAMP:20210119T145743Z
UID:bcfaafad-ea0b-4aa7-8d21-c33d837550db
DTSTART;VALUE=DATE:20200814
DESCRIPTION:Property ID# 486245\, Locatoin: Harcourts Auction Room\, 1 Thir
 d Ave (Unless Sold Prior)\, Time: 12:30PM
SUMMARY:Auction for 
END:VEVENT
END:VCALENDAR
