BEGIN:VCALENDAR
VERSION:2.0
PRODID:icalendar-ruby
CALSCALE:GREGORIAN
BEGIN:VEVENT
DTSTAMP:20210119T145742Z
UID:b3600b75-b431-4166-bb6d-6dac7df24a02
DTSTART;VALUE=DATE:20200910
DESCRIPTION:Property ID# 487551\, Locatoin: Harcourts Auction Room\, 1 Thir
 d Avenue\, Tauranga\, Time: 1:00PM
SUMMARY:Auction for 
END:VEVENT
END:VCALENDAR
