BEGIN:VCALENDAR
VERSION:2.0
PRODID:icalendar-ruby
CALSCALE:GREGORIAN
BEGIN:VEVENT
DTSTAMP:20210121T015656Z
UID:c216c5c7-ceeb-406e-b79b-441922b5b87e
DTSTART;VALUE=DATE:20200930
DESCRIPTION:Property ID# 487974\, Locatoin: On site (unless sold prior)\, T
 ime: 12:00PM
SUMMARY:Auction for 
END:VEVENT
END:VCALENDAR
