BEGIN:VCALENDAR
VERSION:2.0
PRODID:icalendar-ruby
CALSCALE:GREGORIAN
BEGIN:VEVENT
DTSTAMP:20210119T145808Z
UID:778559c9-806e-4d1b-b7a4-864face86055
DTSTART;VALUE=DATE:20201015
DESCRIPTION:Property ID# 488054\, Locatoin: Bayleys Offices unless sold pri
 or\, Time: 4:00PM
SUMMARY:Auction for 26 Young Road
END:VEVENT
END:VCALENDAR
