BEGIN:VCALENDAR
VERSION:2.0
PRODID:icalendar-ruby
CALSCALE:GREGORIAN
BEGIN:VEVENT
DTSTAMP:20210121T015240Z
UID:bb4f776b-92f7-42b3-a197-1ec0e97a7a9a
DTSTART;VALUE=DATE:20200917
DESCRIPTION:Property ID# 488485\, Locatoin: Harcourts Auction Room\, 1 Thir
 d Ave\, Tauranga (unless sold prior)\, Time: 1:00PM
SUMMARY:Auction for 
END:VEVENT
END:VCALENDAR
