BEGIN:VCALENDAR
VERSION:2.0
PRODID:icalendar-ruby
CALSCALE:GREGORIAN
BEGIN:VEVENT
DTSTAMP:20210121T015233Z
UID:7d8f51fd-88a6-4239-af05-395802da2b42
DTSTART;VALUE=DATE:20201003
DESCRIPTION:Property ID# 488851\, Locatoin: Onsite\, Time: 11:00AM
SUMMARY:Auction for 
END:VEVENT
END:VCALENDAR
