BEGIN:VCALENDAR
VERSION:2.0
PRODID:icalendar-ruby
CALSCALE:GREGORIAN
BEGIN:VEVENT
DTSTAMP:20210119T145651Z
UID:03d5e1df-bb2c-4ed2-b0b2-a8855e4b9ee5
DTSTART;VALUE=DATE:20201010
DESCRIPTION:Property ID# 489230\, Locatoin: On Site\, Time: 11:00AM
SUMMARY:Auction for 
END:VEVENT
END:VCALENDAR
