BEGIN:VCALENDAR
VERSION:2.0
PRODID:icalendar-ruby
CALSCALE:GREGORIAN
BEGIN:VEVENT
DTSTAMP:20210119T145733Z
UID:d29ece8e-ecfc-4c86-a707-0510621143a7
DTSTART;VALUE=DATE:20201008
DESCRIPTION:Property ID# 489715\, Locatoin: 247 Cameron Road\, Tauranga\, T
 ime: 1:00PM
SUMMARY:Auction for 
END:VEVENT
END:VCALENDAR
