BEGIN:VCALENDAR
VERSION:2.0
PRODID:icalendar-ruby
CALSCALE:GREGORIAN
BEGIN:VEVENT
DTSTAMP:20210121T015239Z
UID:b964962a-f04c-4786-a7ca-92c0723c08af
DTSTART;VALUE=DATE:20201001
DESCRIPTION:Property ID# 489885\, Locatoin: Harcourts Auction Room\, 1 Thir
 d Ave\, Tauranga (unless sold prior)\, Time: 1:30PM
SUMMARY:Auction for 
END:VEVENT
END:VCALENDAR
