BEGIN:VCALENDAR
VERSION:2.0
PRODID:icalendar-ruby
CALSCALE:GREGORIAN
BEGIN:VEVENT
DTSTAMP:20210119T145813Z
UID:2d3fd103-8d77-412b-ba10-a4c47a23f7a9
DTSTART;VALUE=DATE:20201022
DESCRIPTION:Property ID# 490455\, Locatoin: Bayleys Auction Rooms \, Time: 
 4:00PM
SUMMARY:Auction for 
END:VEVENT
END:VCALENDAR
