BEGIN:VCALENDAR
VERSION:2.0
PRODID:icalendar-ruby
CALSCALE:GREGORIAN
BEGIN:VEVENT
DTSTAMP:20210121T015950Z
UID:22606d7f-8580-4d0f-8f08-4bacb5cd887f
DTSTART;VALUE=DATE:20201005
DESCRIPTION:Property ID# 490468\, Locatoin: 247 Cameron Road\, Tauranga (un
 less sold prior)\, Time: 11:00AM
SUMMARY:Auction for 
END:VEVENT
END:VCALENDAR
