BEGIN:VCALENDAR
VERSION:2.0
PRODID:icalendar-ruby
CALSCALE:GREGORIAN
BEGIN:VEVENT
DTSTAMP:20210119T145648Z
UID:efd42095-dd61-4e74-8b0d-cef80fb27805
DTSTART;VALUE=DATE:20201028
DESCRIPTION:Property ID# 490649\, Locatoin: On Site\, Time: 12:00PM
SUMMARY:Auction for 
END:VEVENT
END:VCALENDAR
