BEGIN:VCALENDAR
VERSION:2.0
PRODID:icalendar-ruby
CALSCALE:GREGORIAN
BEGIN:VEVENT
DTSTAMP:20210119T145649Z
UID:52380207-5e20-41dc-9345-3de1f91e860f
DTSTART;VALUE=DATE:20201020
DESCRIPTION:Property ID# 490823\, Locatoin: On Site\, Time: 11:00AM
SUMMARY:Auction for 
END:VEVENT
END:VCALENDAR
