BEGIN:VCALENDAR
VERSION:2.0
PRODID:icalendar-ruby
CALSCALE:GREGORIAN
BEGIN:VEVENT
DTSTAMP:20210121T015947Z
UID:c52e80b8-bc0b-41d4-9e7f-69c607839a45
DTSTART;VALUE=DATE:20201021
DESCRIPTION:Property ID# 490921\, Locatoin: 247 Cameron Road\, Tauranga \, 
 Time: 1:00PM
SUMMARY:Auction for 
END:VEVENT
END:VCALENDAR
