BEGIN:VCALENDAR
VERSION:2.0
PRODID:icalendar-ruby
CALSCALE:GREGORIAN
BEGIN:VEVENT
DTSTAMP:20210121T015259Z
UID:93d1f1a9-5909-4141-900f-bae2abefaa07
DTSTART;VALUE=DATE:20201125
DESCRIPTION:Property ID# 491044\, Locatoin: On site - 136 No 2 Road\, Te Pu
 ke\, Time: 10:30AM
SUMMARY:Auction for 
END:VEVENT
END:VCALENDAR
