BEGIN:VCALENDAR
VERSION:2.0
PRODID:icalendar-ruby
CALSCALE:GREGORIAN
BEGIN:VEVENT
DTSTAMP:20210121T015655Z
UID:bfad2fff-3aab-461c-b9d5-839a31c309f3
DTSTART;VALUE=DATE:20201103
DESCRIPTION:Property ID# 491069\, Locatoin: On site\, Time: 12:00PM
SUMMARY:Auction for 
END:VEVENT
END:VCALENDAR
