BEGIN:VCALENDAR
VERSION:2.0
PRODID:icalendar-ruby
CALSCALE:GREGORIAN
BEGIN:VEVENT
DTSTAMP:20210121T015212Z
UID:eabec6fe-fb4c-4052-888e-d14061d4c255
DTSTART;VALUE=DATE:20201031
DESCRIPTION:Property ID# 491578\, Locatoin: On Site\, Time: 11:00AM
SUMMARY:Auction for 247C Harbour Road
END:VEVENT
END:VCALENDAR
