BEGIN:VCALENDAR
VERSION:2.0
PRODID:icalendar-ruby
CALSCALE:GREGORIAN
BEGIN:VEVENT
DTSTAMP:20210121T015943Z
UID:34997fe2-47c7-4105-a451-53886b978e2f
DTSTART;VALUE=DATE:20201104
DESCRIPTION:Property ID# 491774\, Locatoin: 247 Cameron Road\, Tauranga (un
 less sold prior)\, Time: 1:00PM
SUMMARY:Auction for 
END:VEVENT
END:VCALENDAR
