BEGIN:VCALENDAR
VERSION:2.0
PRODID:icalendar-ruby
CALSCALE:GREGORIAN
BEGIN:VEVENT
DTSTAMP:20210119T145801Z
UID:2ef54c76-b3c9-4c70-a6e4-3e7b0c73bec2
DTSTART;VALUE=DATE:20201114
DESCRIPTION:Property ID# 492331\, Time: 11:30AM
SUMMARY:Auction for 
END:VEVENT
END:VCALENDAR
