BEGIN:VCALENDAR
VERSION:2.0
PRODID:icalendar-ruby
CALSCALE:GREGORIAN
BEGIN:VEVENT
DTSTAMP:20210121T015942Z
UID:30c46f30-4dc7-4ffc-9b40-3f3539973ca6
DTSTART;VALUE=DATE:20201111
DESCRIPTION:Property ID# 492683\, Locatoin: 247 Cameron Road\, Tauranga (un
 less sold prior)\, Time: 1:00PM
SUMMARY:Auction for 
END:VEVENT
END:VCALENDAR
